BEGIN:VCALENDAR
VERSION:2.0
PRODID:-//Sabre//Sabre VObject 4.5.8//EN
CALSCALE:GREGORIAN
BEGIN:VEVENT
UID:sabre-vobject-74f51f57-fd68-4ba0-a7de-1c97870f7ee9
DTSTAMP:20260423T061735Z
SUMMARY:Festgottesdienst - mit Segnung der Speisen
DESCRIPTION:https://pfarreien-bistum-augsburg.df-preview.de/festgottesdiens
 t-mit-segnung-der-speisen_id1692369
DTSTART;TZID=Europe/Berlin:20260405T093000
DURATION:PT30M
LOCATION:St. Pankratius
END:VEVENT
END:VCALENDAR
