BEGIN:VCALENDAR
VERSION:2.0
PRODID:-//Sabre//Sabre VObject 4.5.8//EN
CALSCALE:GREGORIAN
BEGIN:VEVENT
UID:sabre-vobject-14238014-a575-4969-ab8e-89c1cfbb7e9b
DTSTAMP:20260423T211605Z
SUMMARY:Hl. Messe
DESCRIPTION:https://pfarreien-bistum-augsburg.df-preview.de/hl-messe_id1692
 363
DTSTART;TZID=Europe/Berlin:20260410T173000
DURATION:PT30M
LOCATION:St. Emmeram\, Kapellenstraße 9\, 86368 Gersthofen
END:VEVENT
END:VCALENDAR
