BEGIN:VCALENDAR
VERSION:2.0
PRODID:-//Sabre//Sabre VObject 4.5.8//EN
CALSCALE:GREGORIAN
BEGIN:VEVENT
UID:sabre-vobject-cfce422d-0f25-46ad-8d24-8f2ad49b7637
DTSTAMP:20260422T140830Z
SUMMARY:Rosenkranz für die Kinder und Jugendlichen der PG
DESCRIPTION:https://pfarreien-bistum-augsburg.df-preview.de/rosenkranz-fuer
 -die-kinder-und-jugendlichen-der-pg_id1692345
DTSTART;TZID=Europe/Berlin:20260318T160000
DURATION:PT30M
LOCATION:St. Johannes Baptist
END:VEVENT
END:VCALENDAR
