BEGIN:VCALENDAR
VERSION:2.0
PRODID:-//Sabre//Sabre VObject 4.5.8//EN
CALSCALE:GREGORIAN
BEGIN:VEVENT
UID:sabre-vobject-f8ebb5f5-bf0c-4bda-9d78-dded8f315847
DTSTAMP:20260423T222605Z
SUMMARY:Josefimesse/Auerberg
DESCRIPTION:https://pfarreien-bistum-augsburg.df-preview.de/josefimesse-aue
 rberg_id1692103
DTSTART;TZID=Europe/Berlin:20260319T140000
DURATION:PT30M
LOCATION:St. Nikolaus
END:VEVENT
END:VCALENDAR
