BEGIN:VCALENDAR
VERSION:2.0
PRODID:-//Sabre//Sabre VObject 4.5.8//EN
CALSCALE:GREGORIAN
BEGIN:VEVENT
UID:sabre-vobject-c5e590d1-c6e7-40a2-92a9-3eb9ae2fe57f
DTSTAMP:20260423T213133Z
SUMMARY:Kreuzwegandacht des kath. Frauenbundes
DESCRIPTION:https://pfarreien-bistum-augsburg.df-preview.de/kreuzwegandacht
 -des-kath-frauenbundes_id1692102
DTSTART;TZID=Europe/Berlin:20260318T190000
DURATION:PT30M
LOCATION:St. Nikolaus
END:VEVENT
END:VCALENDAR
