BEGIN:VCALENDAR
VERSION:2.0
PRODID:-//Sabre//Sabre VObject 4.5.8//EN
CALSCALE:GREGORIAN
BEGIN:VEVENT
UID:sabre-vobject-0067ed3e-9769-4721-8114-74d1a81a2c5a
DTSTAMP:20260422T190239Z
SUMMARY:Rosenkranz
DESCRIPTION:https://pfarreien-bistum-augsburg.df-preview.de/rosenkranz_id16
 92046
DTSTART;TZID=Europe/Berlin:20260324T173000
DURATION:PT30M
LOCATION:St. Hedwig
END:VEVENT
END:VCALENDAR
