BEGIN:VCALENDAR
VERSION:2.0
PRODID:-//Sabre//Sabre VObject 4.5.8//EN
CALSCALE:GREGORIAN
BEGIN:VEVENT
UID:sabre-vobject-5c36482e-2cf2-4217-984a-3a4ea34167fa
DTSTAMP:20260422T152441Z
SUMMARY:Gebetskreis
DESCRIPTION:https://pfarreien-bistum-augsburg.df-preview.de/gebetskreis_id1
 692044
DTSTART;TZID=Europe/Berlin:20260324T184500
DURATION:PT30M
LOCATION:St. Hedwig
END:VEVENT
END:VCALENDAR
