BEGIN:VCALENDAR
VERSION:2.0
PRODID:-//Sabre//Sabre VObject 4.5.8//EN
CALSCALE:GREGORIAN
BEGIN:VEVENT
UID:sabre-vobject-9fe6b7a3-3599-4198-a6a0-719e4fb776bd
DTSTAMP:20260423T012045Z
SUMMARY:Bus-Fahrt des Seniorenkeis der PG zum Südsee Museum in Obergünzbu
 rg
DESCRIPTION:https://pfarreien-bistum-augsburg.df-preview.de/bus-fahrt-des-s
 eniorenkeis-der-pg-zum-suedsee-museum-in-oberguenzburg_id1692030
DTSTART;TZID=Europe/Berlin:20260318T113000
DURATION:PT30M
LOCATION:St. Hedwig
END:VEVENT
END:VCALENDAR
