BEGIN:VCALENDAR
VERSION:2.0
PRODID:-//Sabre//Sabre VObject 4.5.8//EN
CALSCALE:GREGORIAN
BEGIN:VEVENT
UID:sabre-vobject-b60e531b-3462-4f68-8b80-5f3fb4e18a3d
DTSTAMP:20260422T221441Z
SUMMARY:Eucharistiefeier
DESCRIPTION:https://pfarreien-bistum-augsburg.df-preview.de/eucharistiefeie
 r_id1692025
DTSTART;TZID=Europe/Berlin:20260322T101500
DURATION:PT30M
LOCATION:St. Hedwig
END:VEVENT
END:VCALENDAR
