BEGIN:VCALENDAR
VERSION:2.0
PRODID:-//Sabre//Sabre VObject 4.5.8//EN
CALSCALE:GREGORIAN
BEGIN:VEVENT
UID:sabre-vobject-d17c6796-6a90-41f6-9de8-82d94af39a6d
DTSTAMP:20260422T234922Z
SUMMARY:Eucharistiefeier
DESCRIPTION:https://pfarreien-bistum-augsburg.df-preview.de/eucharistiefeie
 r_id1692024
DTSTART;TZID=Europe/Berlin:20260320T093000
DURATION:PT30M
LOCATION:St. Hedwig
END:VEVENT
END:VCALENDAR
