BEGIN:VCALENDAR
VERSION:2.0
PRODID:-//Sabre//Sabre VObject 4.5.8//EN
CALSCALE:GREGORIAN
BEGIN:VEVENT
UID:sabre-vobject-36f67a86-ff48-4cd3-9594-753c442db914
DTSTAMP:20260424T205749Z
SUMMARY:Familienkreuzweg für die PG (bitte Blumen mitbringen)
DESCRIPTION:https://pfarreien-bistum-augsburg.df-preview.de/familienkreuzwe
 g-fuer-die-pg-bitte-blumen-mitbringen_id1692021
DTSTART;TZID=Europe/Berlin:20260403T101500
DURATION:PT30M
LOCATION:St. Franziskus
END:VEVENT
END:VCALENDAR
