BEGIN:VCALENDAR
VERSION:2.0
PRODID:-//Sabre//Sabre VObject 4.5.8//EN
CALSCALE:GREGORIAN
BEGIN:VEVENT
UID:sabre-vobject-2e3a727d-87fb-45a0-9e79-9c05f10d6802
DTSTAMP:20260423T035027Z
SUMMARY:Wortgottesdienst
DESCRIPTION:https://pfarreien-bistum-augsburg.df-preview.de/wortgottesdiens
 t_id1691911
DTSTART;TZID=Europe/Berlin:20260319T100000
DURATION:PT30M
LOCATION:St. Michael
END:VEVENT
END:VCALENDAR
