BEGIN:VCALENDAR
VERSION:2.0
PRODID:-//Sabre//Sabre VObject 4.5.8//EN
CALSCALE:GREGORIAN
BEGIN:VEVENT
UID:sabre-vobject-2e1e17ab-fa63-40e5-b3f0-2a2174eca7f1
DTSTAMP:20260423T172747Z
SUMMARY:Kreuzwegandacht
DESCRIPTION:https://pfarreien-bistum-augsburg.df-preview.de/kreuzwegandacht
 _id1691859
DTSTART;TZID=Europe/Berlin:20260320T160000
DURATION:PT30M
LOCATION:St. Ulrich
END:VEVENT
END:VCALENDAR
