BEGIN:VCALENDAR
VERSION:2.0
PRODID:-//Sabre//Sabre VObject 4.5.8//EN
CALSCALE:GREGORIAN
BEGIN:VEVENT
UID:sabre-vobject-39ef504b-c629-4307-a303-94c9ae7d5bc2
DTSTAMP:20260423T224145Z
SUMMARY:Festgottesdienst zum Hochfest des Heiligen Josef für die Pfarreien
 gemeinschaft mit Segnung der Ehejubilare
DESCRIPTION:https://pfarreien-bistum-augsburg.df-preview.de/festgottesdiens
 t-zum-hochfest-des-heiligen-josef-fuer-die-pfarreiengemeinschaft-mit-segnu
 ng-der-ehejubilare_id1691851
DTSTART;TZID=Europe/Berlin:20260319T191500
DURATION:PT30M
LOCATION:St. Ulrich
END:VEVENT
END:VCALENDAR
