BEGIN:VCALENDAR
VERSION:2.0
PRODID:-//Sabre//Sabre VObject 4.5.8//EN
CALSCALE:GREGORIAN
BEGIN:VEVENT
UID:sabre-vobject-c92ab543-31c8-477c-8eb3-62dd21940f82
DTSTAMP:20260424T043719Z
SUMMARY:Heilige Messe (Gertrudenmesse) Thema: "Gemeinsam.Leben"
DESCRIPTION:https://pfarreien-bistum-augsburg.df-preview.de/heilige-messe-g
 ertrudenmesse-thema-gemeinsam-leben_id1691849
DTSTART;TZID=Europe/Berlin:20260318T191500
DURATION:PT30M
LOCATION:St. Ulrich
END:VEVENT
END:VCALENDAR
