BEGIN:VCALENDAR
VERSION:2.0
PRODID:-//Sabre//Sabre VObject 4.5.8//EN
CALSCALE:GREGORIAN
BEGIN:VEVENT
UID:sabre-vobject-98a0601f-20e5-49e0-b28b-8bb170b78ee1
DTSTAMP:20260424T200532Z
SUMMARY:Erstkommunion-Gruppenstunde "Mahl feiern"
DESCRIPTION:https://pfarreien-bistum-augsburg.df-preview.de/erstkommunion-g
 ruppenstunde-mahl-feiern_id1691733
DTSTART;TZID=Europe/Berlin:20260319T160000
DURATION:PT30M
LOCATION:St. Barbara
END:VEVENT
END:VCALENDAR
