BEGIN:VCALENDAR
VERSION:2.0
PRODID:-//Sabre//Sabre VObject 4.5.8//EN
CALSCALE:GREGORIAN
BEGIN:VEVENT
UID:sabre-vobject-d195d447-fe90-4315-ae24-421c157d60fc
DTSTAMP:20260424T221607Z
SUMMARY:Heilige Messe
DESCRIPTION:https://pfarreien-bistum-augsburg.df-preview.de/heilige-messe_i
 d1691730
DTSTART;TZID=Europe/Berlin:20260319T103000
DURATION:PT30M
LOCATION:St. Barbara
END:VEVENT
END:VCALENDAR
