BEGIN:VCALENDAR
VERSION:2.0
PRODID:-//Sabre//Sabre VObject 4.5.8//EN
CALSCALE:GREGORIAN
BEGIN:VEVENT
UID:sabre-vobject-0063ba47-cfaf-4e70-9b01-e56ef118eab5
DTSTAMP:20260421T034730Z
SUMMARY:16.00 - 18.00 Uhr: Sammlung Aktion Hoffnung an der Alten Schule
DESCRIPTION:https://pfarreien-bistum-augsburg.df-preview.de/16-00-18-00-uhr
 -sammlung-aktion-hoffnung-an-der-alten-schule_id1691693
DTSTART;TZID=Europe/Berlin:20260320T000000
DURATION:PT30M
LOCATION:St. Michael\, Kirchstraße 12\, 87642 Halblech Bayerniederhofen
END:VEVENT
END:VCALENDAR
