BEGIN:VCALENDAR
VERSION:2.0
PRODID:-//Sabre//Sabre VObject 4.5.8//EN
CALSCALE:GREGORIAN
BEGIN:VEVENT
UID:sabre-vobject-b69e806a-bb0c-4a16-8014-6f5097f2ff38
DTSTAMP:20260423T200332Z
SUMMARY:Palmweihe am Kindergarten\, Prozession und Pfarrgottesdienst\, Gest
 altung Kirchenchor\, für die PG
DESCRIPTION:https://pfarreien-bistum-augsburg.df-preview.de/palmweihe-am-ki
 ndergarten-prozession-und-pfarrgottesdienst-gestaltung-kirchenchor-fuer-di
 e-pg_id1691672
DTSTART;TZID=Europe/Berlin:20260329T093000
DURATION:PT30M
LOCATION:Basilica minor St. Michael
END:VEVENT
END:VCALENDAR
