BEGIN:VCALENDAR
VERSION:2.0
PRODID:-//Sabre//Sabre VObject 4.5.8//EN
CALSCALE:GREGORIAN
BEGIN:VEVENT
UID:sabre-vobject-6a1505d5-d9dd-4c39-82da-86eca291d540
DTSTAMP:20260422T033632Z
SUMMARY:Rosenkranz für die Mitglieder der Rosenkranzbruderschaft
DESCRIPTION:https://pfarreien-bistum-augsburg.df-preview.de/rosenkranz-fuer
 -die-mitglieder-der-rosenkranzbruderschaft_id1691627
DTSTART;TZID=Europe/Berlin:20260319T191500
DURATION:PT30M
LOCATION:St. Alban\, St.-Alban-Str. 6\, 86807 Buchloe-Honsolgen
END:VEVENT
END:VCALENDAR
