BEGIN:VCALENDAR
VERSION:2.0
PRODID:-//Sabre//Sabre VObject 4.5.8//EN
CALSCALE:GREGORIAN
BEGIN:VEVENT
UID:sabre-vobject-067cef29-a180-4203-8fd1-da71072e22a5
DTSTAMP:20260422T140831Z
SUMMARY:Eucharistiefeier zum Hl. Josef
DESCRIPTION:https://pfarreien-bistum-augsburg.df-preview.de/eucharistiefeie
 r-zum-hl-josef_id1691606
DTSTART;TZID=Europe/Berlin:20260319T090000
DURATION:PT30M
LOCATION:Mariä Himmelfahrt
END:VEVENT
END:VCALENDAR
