BEGIN:VCALENDAR
VERSION:2.0
PRODID:-//Sabre//Sabre VObject 4.5.8//EN
CALSCALE:GREGORIAN
BEGIN:VEVENT
UID:sabre-vobject-c6719e81-4bdf-428a-bd80-a34bf8102185
DTSTAMP:20260421T001135Z
SUMMARY:Eucharistiefeier
DESCRIPTION:https://pfarreien-bistum-augsburg.df-preview.de/eucharistiefeie
 r_id1691517
DTSTART;TZID=Europe/Berlin:20260320T090000
DURATION:PT30M
LOCATION:Christkönig
END:VEVENT
END:VCALENDAR
