BEGIN:VCALENDAR
VERSION:2.0
PRODID:-//Sabre//Sabre VObject 4.5.8//EN
CALSCALE:GREGORIAN
BEGIN:VEVENT
UID:sabre-vobject-bce8e44f-f9c7-4001-8d92-ca9df9262045
DTSTAMP:20260422T124712Z
SUMMARY:3. Weggottesdienst
DESCRIPTION:https://pfarreien-bistum-augsburg.df-preview.de/3-weggottesdien
 st_id1691491
DTSTART;TZID=Europe/Berlin:20260318T160000
DURATION:PT30M
LOCATION:Mariä Himmelfahrt
END:VEVENT
END:VCALENDAR
