BEGIN:VCALENDAR
VERSION:2.0
PRODID:-//Sabre//Sabre VObject 4.5.8//EN
CALSCALE:GREGORIAN
BEGIN:VEVENT
UID:sabre-vobject-377baf24-58a7-4846-b7e3-f09231ca5534
DTSTAMP:20260421T204042Z
SUMMARY:Heilige Messe mit Gedenken für:
DESCRIPTION:https://pfarreien-bistum-augsburg.df-preview.de/heilige-messe-m
 it-gedenken-fuer_id1691482
DTSTART;TZID=Europe/Berlin:20260320T173000
DURATION:PT30M
LOCATION:St. Martin
END:VEVENT
END:VCALENDAR
