BEGIN:VCALENDAR
VERSION:2.0
PRODID:-//Sabre//Sabre VObject 4.5.8//EN
CALSCALE:GREGORIAN
BEGIN:VEVENT
UID:sabre-vobject-d2b98163-6dab-4f54-997e-3a8fa9436d48
DTSTAMP:20260423T222633Z
SUMMARY:Rosenkranz
DESCRIPTION:https://pfarreien-bistum-augsburg.df-preview.de/rosenkranz_id16
 91337
DTSTART;TZID=Europe/Berlin:20260324T183000
DURATION:PT30M
LOCATION:St. Vitus
END:VEVENT
END:VCALENDAR
