BEGIN:VCALENDAR
VERSION:2.0
PRODID:-//Sabre//Sabre VObject 4.5.8//EN
CALSCALE:GREGORIAN
BEGIN:VEVENT
UID:sabre-vobject-3cdc124a-1d4c-45e0-8f62-159aeca4d4c7
DTSTAMP:20260422T000403Z
SUMMARY:Heilige Messe
DESCRIPTION:https://pfarreien-bistum-augsburg.df-preview.de/heilige-messe_i
 d1691308
DTSTART;TZID=Europe/Berlin:20260324T190000
DURATION:PT30M
LOCATION:St. Anna\, Dorfstr. 17\, 86558 Hohenwart - Weichenried
END:VEVENT
END:VCALENDAR
