BEGIN:VCALENDAR
VERSION:2.0
PRODID:-//Sabre//Sabre VObject 4.5.8//EN
CALSCALE:GREGORIAN
BEGIN:VEVENT
UID:sabre-vobject-d709a95b-38db-4b9a-ae72-efef49c951f6
DTSTAMP:20260421T110107Z
SUMMARY:Pfarrgottesdienst in Friesenried
DESCRIPTION:https://pfarreien-bistum-augsburg.df-preview.de/pfarrgottesdien
 st-in-friesenried_id1691178
DTSTART;TZID=Europe/Berlin:20260322T000000
DURATION:PT30M
LOCATION:St. Wolfgang
END:VEVENT
END:VCALENDAR
