BEGIN:VCALENDAR
VERSION:2.0
PRODID:-//Sabre//Sabre VObject 4.5.8//EN
CALSCALE:GREGORIAN
BEGIN:VEVENT
UID:sabre-vobject-fc586b9b-db5a-4de0-998c-fbde93fa0662
DTSTAMP:20260425T124552Z
SUMMARY:Aktion-Hoffnung-Kleidersammlung
DESCRIPTION:https://pfarreien-bistum-augsburg.df-preview.de/aktion-hoffnung
 -kleidersammlung_id1691100
DTSTART;TZID=Europe/Berlin:20260321T000000
DURATION:PT30M
LOCATION:St. Afra
END:VEVENT
END:VCALENDAR
