BEGIN:VCALENDAR
VERSION:2.0
PRODID:-//Sabre//Sabre VObject 4.5.8//EN
CALSCALE:GREGORIAN
BEGIN:VEVENT
UID:sabre-vobject-b194dac8-cf23-4af3-974e-78cde1359871
DTSTAMP:20260424T190436Z
SUMMARY:Fastenandacht "MIT GEFÜHL"
DESCRIPTION:https://pfarreien-bistum-augsburg.df-preview.de/fastenandacht-m
 it-gefuehl_id1690969
DTSTART;TZID=Europe/Berlin:20260318T183000
DURATION:PT30M
LOCATION:St. Johannes der Täufer
END:VEVENT
END:VCALENDAR
