BEGIN:VCALENDAR
VERSION:2.0
PRODID:-//Sabre//Sabre VObject 4.5.8//EN
CALSCALE:GREGORIAN
BEGIN:VEVENT
UID:sabre-vobject-b194b7db-df06-4f8d-b7fe-2f35fafcd096
DTSTAMP:20260422T013803Z
SUMMARY:Rosenkranz
DESCRIPTION:https://pfarreien-bistum-augsburg.df-preview.de/rosenkranz_id16
 90767
DTSTART;TZID=Europe/Berlin:20260320T163000
DURATION:PT30M
LOCATION:St. Willibald
END:VEVENT
END:VCALENDAR
