BEGIN:VCALENDAR
VERSION:2.0
PRODID:-//Sabre//Sabre VObject 4.5.8//EN
CALSCALE:GREGORIAN
BEGIN:VEVENT
UID:sabre-vobject-948a70d1-2aab-4c78-8aee-2fc7ff701d07
DTSTAMP:20260423T034939Z
SUMMARY:Rosenkranz für die Erneuerung unseres Glaubens in der PG
DESCRIPTION:https://pfarreien-bistum-augsburg.df-preview.de/rosenkranz-fuer
 -die-erneuerung-unseres-glaubens-in-der-pg_id1690677
DTSTART;TZID=Europe/Berlin:20260318T074500
DURATION:PT30M
LOCATION:St. Jakobus maj.
END:VEVENT
END:VCALENDAR
