BEGIN:VCALENDAR
VERSION:2.0
PRODID:-//Sabre//Sabre VObject 4.5.8//EN
CALSCALE:GREGORIAN
BEGIN:VEVENT
UID:sabre-vobject-5a5b4a65-d8d0-46ac-a1f5-21b0d7a0e23d
DTSTAMP:20260422T052020Z
SUMMARY:konstituierende Sitzung des Pfarrgemeinderates
DESCRIPTION:https://pfarreien-bistum-augsburg.df-preview.de/konstituierende
 -sitzung-des-pfarrgemeinderates_id1690649
DTSTART;TZID=Europe/Berlin:20260325T190000
DURATION:PT30M
LOCATION:St. Luzia
END:VEVENT
END:VCALENDAR
