BEGIN:VCALENDAR
VERSION:2.0
PRODID:-//Sabre//Sabre VObject 4.5.8//EN
CALSCALE:GREGORIAN
BEGIN:VEVENT
UID:sabre-vobject-a7e14000-b696-41a7-8456-46a3af4c72f8
DTSTAMP:20260421T013528Z
SUMMARY:Heilige Messe mit Aussetzung und euchar. Segen
DESCRIPTION:https://pfarreien-bistum-augsburg.df-preview.de/heilige-messe-m
 it-aussetzung-und-euchar-segen_id1690304
DTSTART;TZID=Europe/Berlin:20260318T090000
DURATION:PT30M
LOCATION:St. Nikolaus
END:VEVENT
END:VCALENDAR
