BEGIN:VCALENDAR
VERSION:2.0
PRODID:-//Sabre//Sabre VObject 4.5.8//EN
CALSCALE:GREGORIAN
BEGIN:VEVENT
UID:sabre-vobject-4647f499-d751-4825-b841-483b9144963e
DTSTAMP:20260420T105343Z
SUMMARY:Feier des Abendmahls in der Kirche\, im Anschluss sind alle herzlic
 h eingeladen zur Agapefeier
DESCRIPTION:https://pfarreien-bistum-augsburg.df-preview.de/feier-des-abend
 mahls-in-der-kirche-im-anschluss-sind-alle-herzlich-eingeladen-zur-agapefe
 ier_id1690287
DTSTART;TZID=Europe/Berlin:20260402T190000
DURATION:PT30M
LOCATION:St. Ulrich
END:VEVENT
END:VCALENDAR
