BEGIN:VCALENDAR
VERSION:2.0
PRODID:-//Sabre//Sabre VObject 4.5.8//EN
CALSCALE:GREGORIAN
BEGIN:VEVENT
UID:sabre-vobject-8acd8bdf-53a9-44f1-84e3-1acbea1fec26
DTSTAMP:20260422T064222Z
SUMMARY:k e i n    Rosenkranz
DESCRIPTION:https://pfarreien-bistum-augsburg.df-preview.de/k-e-i-n-rosenkr
 anz_id1690162
DTSTART;TZID=Europe/Berlin:20260318T000000
DURATION:PT30M
LOCATION:St. Valentin
END:VEVENT
END:VCALENDAR
