BEGIN:VCALENDAR
VERSION:2.0
PRODID:-//Sabre//Sabre VObject 4.5.8//EN
CALSCALE:GREGORIAN
BEGIN:VEVENT
UID:sabre-vobject-6b79302b-30ce-4ad3-a27b-1d0b9de8fb07
DTSTAMP:20260423T144612Z
SUMMARY:Taizégebet gest. v. PGR
DESCRIPTION:https://pfarreien-bistum-augsburg.df-preview.de/taizegebet-gest
 -v-pgr_id1690130
DTSTART;TZID=Europe/Berlin:20260320T180000
DURATION:PT30M
LOCATION:St. Mauritius
END:VEVENT
END:VCALENDAR
