BEGIN:VCALENDAR
VERSION:2.0
PRODID:-//Sabre//Sabre VObject 4.5.8//EN
CALSCALE:GREGORIAN
BEGIN:VEVENT
UID:sabre-vobject-634b372c-f47d-4b61-a590-b434c6b6f35c
DTSTAMP:20260422T033324Z
SUMMARY:Rosenkranz
DESCRIPTION:https://pfarreien-bistum-augsburg.df-preview.de/rosenkranz_id16
 90122
DTSTART;TZID=Europe/Berlin:20260407T182500
DURATION:PT30M
LOCATION:Herz Mariä
END:VEVENT
END:VCALENDAR
