BEGIN:VCALENDAR
VERSION:2.0
PRODID:-//Sabre//Sabre VObject 4.5.8//EN
CALSCALE:GREGORIAN
BEGIN:VEVENT
UID:sabre-vobject-43303e32-be4d-4878-9501-b08e347847b7
DTSTAMP:20260422T113147Z
SUMMARY:Hl. Messe\, musikal. mitgestaltet vom Kirchenchor\, anschl. Anbetun
 g bis 19.30 Uhr
DESCRIPTION:https://pfarreien-bistum-augsburg.df-preview.de/hl-messe-musika
 l-mitgestaltet-vom-kirchenchor-anschl-anbetung-bis-19-30-uhr_id1690094
DTSTART;TZID=Europe/Berlin:20260319T183000
DURATION:PT30M
LOCATION:St. Peter
END:VEVENT
END:VCALENDAR
