BEGIN:VCALENDAR
VERSION:2.0
PRODID:-//Sabre//Sabre VObject 4.5.8//EN
CALSCALE:GREGORIAN
BEGIN:VEVENT
UID:sabre-vobject-61da6efe-fbc7-4409-a19b-739781c79e33
DTSTAMP:20260422T095044Z
SUMMARY:Seniorennachmittag im Pfarrheim: gemütlicher Kaffeeplausch und Spi
 elenachmittag
DESCRIPTION:https://pfarreien-bistum-augsburg.df-preview.de/seniorennachmit
 tag-im-pfarrheim-gemuetlicher-kaffeeplausch-und-spielenachmittag_id1689997
DTSTART;TZID=Europe/Berlin:20260318T140000
DURATION:PT30M
LOCATION:St. Gordian und Epimach
END:VEVENT
END:VCALENDAR
