BEGIN:VCALENDAR
VERSION:2.0
PRODID:-//Sabre//Sabre VObject 4.5.8//EN
CALSCALE:GREGORIAN
BEGIN:VEVENT
UID:sabre-vobject-0336f3cf-b27c-43f5-bfbd-67fc55a73ae1
DTSTAMP:20260423T063319Z
SUMMARY:Erstbeichte der Kommunionkinder Gruppe 2
DESCRIPTION:https://pfarreien-bistum-augsburg.df-preview.de/erstbeichte-der
 -kommunionkinder-gruppe-2_id1689945
DTSTART;TZID=Europe/Berlin:20260318T160000
DURATION:PT30M
LOCATION:St. Andreas
END:VEVENT
END:VCALENDAR
