BEGIN:VCALENDAR
VERSION:2.0
PRODID:-//Sabre//Sabre VObject 4.5.8//EN
CALSCALE:GREGORIAN
BEGIN:VEVENT
UID:sabre-vobject-9fcaea10-dc15-4828-9daa-447e7044d2fc
DTSTAMP:20260423T084733Z
SUMMARY:Heilige Messe
DESCRIPTION:https://pfarreien-bistum-augsburg.df-preview.de/heilige-messe_i
 d1689928
DTSTART;TZID=Europe/Berlin:20260319T090000
DURATION:PT30M
LOCATION:St. Georg
END:VEVENT
END:VCALENDAR
