BEGIN:VCALENDAR
VERSION:2.0
PRODID:-//Sabre//Sabre VObject 4.5.8//EN
CALSCALE:GREGORIAN
BEGIN:VEVENT
UID:sabre-vobject-1c334995-4689-487e-8a6b-3bb7742d1db8
DTSTAMP:20260420T223145Z
SUMMARY:Hochamt zum Patrozinium mit dem Kirchenchor Steingaden
DESCRIPTION:https://pfarreien-bistum-augsburg.df-preview.de/hochamt-zum-pat
 rozinium-mit-dem-kirchenchor-steingaden_id1689911
DTSTART;TZID=Europe/Berlin:20260319T100000
DURATION:PT30M
LOCATION:Wallfahrts-Kuratie St. Josef
END:VEVENT
END:VCALENDAR
