BEGIN:VCALENDAR
VERSION:2.0
PRODID:-//Sabre//Sabre VObject 4.5.8//EN
CALSCALE:GREGORIAN
BEGIN:VEVENT
UID:sabre-vobject-c6a6cbe7-e59a-4804-92d2-359242500fc1
DTSTAMP:20260421T001147Z
SUMMARY:Hl. Messe mit Übergabe der Gebetsanliegen am Gnadenaltar an den He
 iland
DESCRIPTION:https://pfarreien-bistum-augsburg.df-preview.de/hl-messe-mit-ue
 bergabe-der-gebetsanliegen-am-gnadenaltar-an-den-heiland_id1689910
DTSTART;TZID=Europe/Berlin:20260318T100000
DURATION:PT30M
LOCATION:Wallfahrts-Kuratie St. Josef
END:VEVENT
END:VCALENDAR
