BEGIN:VCALENDAR
VERSION:2.0
PRODID:-//Sabre//Sabre VObject 4.5.8//EN
CALSCALE:GREGORIAN
BEGIN:VEVENT
UID:sabre-vobject-bec40a77-985c-4d94-8da5-6aa18b7dc80d
DTSTAMP:20260424T150613Z
SUMMARY:Heilige Messe
DESCRIPTION:https://pfarreien-bistum-augsburg.df-preview.de/heilige-messe_i
 d1689891
DTSTART;TZID=Europe/Berlin:20260320T180000
DURATION:PT30M
LOCATION:Kuratie St. Sebastian\, Egnishausen 27\, 87727 Egg an der Günz
END:VEVENT
END:VCALENDAR
