BEGIN:VCALENDAR
VERSION:2.0
PRODID:-//Sabre//Sabre VObject 4.5.8//EN
CALSCALE:GREGORIAN
BEGIN:VEVENT
UID:sabre-vobject-247c5342-567a-4c44-bd45-4cbbca6965f9
DTSTAMP:20260423T015337Z
SUMMARY:Adonai Kreuzweg
DESCRIPTION:https://pfarreien-bistum-augsburg.df-preview.de/adonai-kreuzweg
 _id1689804
DTSTART;TZID=Europe/Berlin:20260328T190000
DURATION:PT30M
LOCATION:St. Pelagius
END:VEVENT
END:VCALENDAR
