BEGIN:VCALENDAR
VERSION:2.0
PRODID:-//Sabre//Sabre VObject 4.5.8//EN
CALSCALE:GREGORIAN
BEGIN:VEVENT
UID:sabre-vobject-c1f71a19-fdb5-40bb-b661-a0ec11e5224b
DTSTAMP:20260423T063749Z
SUMMARY:Versöhnungsfeier (Bußgottesdienst) mit Beichtgelegenheit
DESCRIPTION:https://pfarreien-bistum-augsburg.df-preview.de/versoehnungsfei
 er-bussgottesdienst-mit-beichtgelegenheit_id1689796
DTSTART;TZID=Europe/Berlin:20260320T190000
DURATION:PT30M
LOCATION:St. Pelagius
END:VEVENT
END:VCALENDAR
