BEGIN:VCALENDAR
VERSION:2.0
PRODID:-//Sabre//Sabre VObject 4.5.8//EN
CALSCALE:GREGORIAN
BEGIN:VEVENT
UID:sabre-vobject-3716b92a-216c-4273-a331-ba03a1950ec9
DTSTAMP:20260420T195212Z
SUMMARY:Abendmesse
DESCRIPTION:https://pfarreien-bistum-augsburg.df-preview.de/abendmesse_id16
 89774
DTSTART;TZID=Europe/Berlin:20260319T181500
DURATION:PT30M
LOCATION:St. Blasius
END:VEVENT
END:VCALENDAR
