BEGIN:VCALENDAR
VERSION:2.0
PRODID:-//Sabre//Sabre VObject 4.5.8//EN
CALSCALE:GREGORIAN
BEGIN:VEVENT
UID:sabre-vobject-65fd8cb1-e7f5-4120-97b5-d377b7cccc1a
DTSTAMP:20260423T133936Z
SUMMARY:vor dem Haus der Begegnung: Segnung der Palmen\, Prozession zur Kir
 che\, dort Festgottesdienst
DESCRIPTION:https://pfarreien-bistum-augsburg.df-preview.de/vor-dem-haus-de
 r-begegnung-segnung-der-palmen-prozession-zur-kirche-dort-festgottesdienst
 _id1689759
DTSTART;TZID=Europe/Berlin:20260329T100000
DURATION:PT30M
LOCATION:St. Johannes Baptist\, Kirchenweg 4\, 86925 Fuchstal
END:VEVENT
END:VCALENDAR
