BEGIN:VCALENDAR
VERSION:2.0
PRODID:-//Sabre//Sabre VObject 4.5.8//EN
CALSCALE:GREGORIAN
BEGIN:VEVENT
UID:sabre-vobject-b8b6670e-dee6-4f16-b083-04674d2f766b
DTSTAMP:20260422T111337Z
SUMMARY:Kreuzwegandacht
DESCRIPTION:https://pfarreien-bistum-augsburg.df-preview.de/kreuzwegandacht
 _id1689669
DTSTART;TZID=Europe/Berlin:20260319T163000
DURATION:PT30M
LOCATION:St. Katharina\, Schulstr. 2\, 85084 Reichertshofen
END:VEVENT
END:VCALENDAR
