BEGIN:VCALENDAR
VERSION:2.0
PRODID:-//Sabre//Sabre VObject 4.5.8//EN
CALSCALE:GREGORIAN
BEGIN:VEVENT
UID:sabre-vobject-a614ea4e-0229-415d-ad77-b98c392b0e07
DTSTAMP:20260422T033232Z
SUMMARY:Gebetskreis für den Frieden
DESCRIPTION:https://pfarreien-bistum-augsburg.df-preview.de/gebetskreis-fue
 r-den-frieden_id1689633
DTSTART;TZID=Europe/Berlin:20260327T180000
DURATION:PT30M
LOCATION:St. Andreas\, Burgstraße 7\, 91809  Wellheim
END:VEVENT
END:VCALENDAR
